BEGIN:VCALENDAR
PRODID:-//kirchenweb.ch gmbh//veranstaltungsausgabe v2.0//DE
VERSION:2.0
METHOD:PUBLISH
BEGIN:VEVENT
DTSTART:20231206T130000Z
DTEND:20231206T160000Z
LOCATION:Mesmerhuus\, Kloster\, 8224 Löhningen
TRANSP:OPAQUE
SEQUENCE:0
UID:152248-veranstaltung@ref-sh.ch
DTSTAMP:20231201T081809Z
DESCRIPTION:Adventlicher Seniorennachmittag mit Joachim Finger\n\nKontakt:
  ruedi.spoerndli@ref-sh.ch\n\nWeitere Infos:
  https://www.ref-sh.ch/veranstaltung/152248
SUMMARY:Senioren-Nachmittag
PRIORITY:5
X-MICROSOFT-CDO-IMPORTANCE:1
CLASS:PUBLIC
END:VEVENT
END:VCALENDAR
