BEGIN:VCALENDAR
PRODID:-//kirchenweb.ch gmbh//veranstaltungsausgabe v2.0//DE
VERSION:2.0
METHOD:PUBLISH
BEGIN:VEVENT
DTSTART:20231212T183000Z
DTEND:20231212T200000Z
LOCATION:Pfarrhaussaal\, Im Chloster 1\, 8214 Gächlingen
TRANSP:OPAQUE
SEQUENCE:0
UID:152077-veranstaltung@ref-sh.ch
DTSTAMP:20231207T122330Z
DESCRIPTION:Wir lesen Texte aus dem Hebräerbrief und machen uns Gedanken
  über deren Hintergrund und die Übertragung ins Leben.\n\nKontakt:
  Marianne Näf-Bräker\n\nWeitere Infos:
  https://www.ref-sh.ch/veranstaltung/152077
SUMMARY:abgesagt: Bibelgesprächskreis
PRIORITY:5
X-MICROSOFT-CDO-IMPORTANCE:1
CLASS:PUBLIC
END:VEVENT
END:VCALENDAR
