BEGIN:VCALENDAR
PRODID:-//kirchenweb.ch gmbh//veranstaltungsausgabe v2.0//DE
VERSION:2.0
METHOD:PUBLISH
BEGIN:VEVENT
DTSTART:20240117T123000Z
DTEND:20240117T170000Z
LOCATION:HofAckerZentrum\, Alpenstrasse 176\, 8203 Schaffhausen
TRANSP:OPAQUE
SEQUENCE:0
UID:152070-veranstaltung@ref-sh.ch
DTSTAMP:20240117T060045Z
DESCRIPTION:Kontakt: Eva Baumgardt \nTel 052 681 12 20\n\nWeitere Infos:
  https://www.ref-sh.ch/veranstaltung/152070
SUMMARY:Impulstag Weltgebetstag
PRIORITY:5
X-MICROSOFT-CDO-IMPORTANCE:1
CLASS:PUBLIC
END:VEVENT
END:VCALENDAR
