BEGIN:VCALENDAR
PRODID:-//kirchenweb.ch gmbh//veranstaltungsausgabe v2.0//DE
VERSION:2.0
METHOD:PUBLISH
BEGIN:VEVENT
DTSTART:20240502T123000Z
DTEND:20240502T133000Z
LOCATION:Steigsaal\, Nordstrasse 33\, 8200 Schaffhausen
TRANSP:OPAQUE
SEQUENCE:0
UID:151426-veranstaltung@ref-sh.ch
DTSTAMP:20240311T144106Z
DESCRIPTION:"Verschönerungsverein Schaffhausen" - Vortrag von Florian
  Brack. Anmeldung: E. Ruckstuhl\, 052 624 20 76 oder E. Brun\, 052 625 86
  79\n\nKontakt: Pfr. Martin Baumgartner\n\nWeitere Infos:
  https://www.ref-sh.ch/veranstaltung/151426
SUMMARY:Themen-Nachmittag
PRIORITY:5
X-MICROSOFT-CDO-IMPORTANCE:1
CLASS:PUBLIC
END:VEVENT
END:VCALENDAR
