BEGIN:VCALENDAR
PRODID:-//kirchenweb.ch gmbh//veranstaltungsausgabe v2.0//DE
VERSION:2.0
METHOD:PUBLISH
BEGIN:VEVENT
DTSTART:20230526T173000Z
DTEND:20230526T200000Z
LOCATION:Gächlingen\, \,
TRANSP:OPAQUE
SEQUENCE:0
UID:151258-veranstaltung@ref-sh.ch
DTSTAMP:20230518T131703Z
DESCRIPTION:Infos folgen...\n\nThema:\n\nTreffpunkt:\n\nMitnehmen:\n
 \nInfo:\n\nNächster Teenager Club Termine:\n\n\n\nKontakt:
  samuel.hafen@ref-sh.ch\n\nWeitere Infos:
  https://www.ref-sh.ch/veranstaltung/151258
SUMMARY:TC – Einpfingsten
PRIORITY:5
X-MICROSOFT-CDO-IMPORTANCE:1
CLASS:PUBLIC
END:VEVENT
END:VCALENDAR
