BEGIN:VCALENDAR
PRODID:-//kirchenweb.ch gmbh//veranstaltungsausgabe v2.0//DE
VERSION:2.0
METHOD:PUBLISH
BEGIN:VEVENT
DTSTART:20240106T180000Z
DTEND:20240106T190000Z
LOCATION:Kirche Löhningen\, Kloster 3\, 8224 Löhningen
TRANSP:OPAQUE
SEQUENCE:0
UID:151147-veranstaltung@ref-sh.ch
DTSTAMP:20240122T123245Z
DESCRIPTION:97. SamGo Löhningen\, der Jugendgottesdienst für Teenager
  von 5. bis 9. Klasse. Mit Theater-Team (Léonard Bünzli\, Orlando
  Mottola und Elia Tanner)\, mit der SamGo-Band und Pfarrer Lukas Huber\n
 \nAnschliessend «Check-in» im Mesmerhuus.\n\nKontakt: Pfarrer Lukas
  Huber\n\nWeitere Infos: https://www.ref-sh.ch/veranstaltung/151147
SUMMARY:SamGo Löhningen
PRIORITY:5
X-MICROSOFT-CDO-IMPORTANCE:1
CLASS:PUBLIC
END:VEVENT
END:VCALENDAR
