BEGIN:VCALENDAR
PRODID:-//kirchenweb.ch gmbh//veranstaltungsausgabe v2.0//DE
VERSION:2.0
METHOD:PUBLISH
BEGIN:VEVENT
DTSTART:20240330T170000Z
DTEND:20240330T225900Z
LOCATION:Kirche Gächlingen\, Kirchstrasse 8\, 8214 Gächlingen
TRANSP:OPAQUE
SEQUENCE:0
UID:150874-veranstaltung@ref-sh.ch
DTSTAMP:20240331T190716Z
DESCRIPTION:Weitere Infos zum Boxenstopp findest du unter boxenstopp.\n
 \nProgramm\n18:00 – Apéro\n18:15 – Znacht\n19:30 – Gottesdienst
 \n21:00 – Gebetsnacht\n07.00 –
  https://www.ref-sh.ch/kg/gaechlingen/veranstaltung/150507 (Ostersonntag)
 \n08.00 – https://www.ref-sh.ch/kg/gaechlingen/veranstaltung/158521\n
 \nBilder und Bericht vom coolen letzten Jahr:\n\n\nKontakt: Valentin
  Huber\, Kloster 3\, 8224 Löhningen\, valentin.huber@ref-sh.ch\, 076 505
  34 41\n\nWeitere Infos: https://www.ref-sh.ch/veranstaltung/150874
SUMMARY:Oster-Boxenstopp mit Gebetsnacht
PRIORITY:5
X-MICROSOFT-CDO-IMPORTANCE:1
CLASS:PUBLIC
END:VEVENT
END:VCALENDAR
