BEGIN:VCALENDAR
PRODID:-//kirchenweb.ch gmbh//veranstaltungsausgabe v2.0//DE
VERSION:2.0
METHOD:PUBLISH
BEGIN:VEVENT
DTSTART:20230917T160000Z
DTEND:20230917T190000Z
LOCATION:Löhningen\, Details im Chat\, \,
TRANSP:OPAQUE
SEQUENCE:0
UID:150873-veranstaltung@ref-sh.ch
DTSTAMP:20231108T084417Z
DESCRIPTION:Details zu diesem Boxenstopp werden im
  Boxenstopp-WhatsApp-Chat gepostet: https://boxenstopp-klettgau.ch/chat.\n
 \nProgramm\n18:00 – Apéro\n18:15 – Znacht\n19:30 – Gottesdienst
 \n21:00 – Snacks und open end\n\nWeitere Infos zum Boxenstopp findest du
  unter boxenstopp.\n\nKontakt: Valentin Huber\, Kloster 3\, 8224
  Löhningen\, valentin.huber@ref-sh.ch\, 076 505 34 41\n\nWeitere Infos:
  https://www.ref-sh.ch/veranstaltung/150873
SUMMARY:Boxenstopp
PRIORITY:5
X-MICROSOFT-CDO-IMPORTANCE:1
CLASS:PUBLIC
END:VEVENT
END:VCALENDAR
