BEGIN:VCALENDAR
PRODID:-//kirchenweb.ch gmbh//veranstaltungsausgabe v2.0//DE
VERSION:2.0
METHOD:PUBLISH
BEGIN:VEVENT
DTSTART:20240121T170000Z
DTEND:20240121T200000Z
LOCATION:Kirche\, Kirchstrasse 8\, 8214 Gächlingen
TRANSP:OPAQUE
SEQUENCE:0
UID:150871-veranstaltung@ref-sh.ch
DTSTAMP:20250408T152139Z
DESCRIPTION:Programm\n18:00 – Apéro\n18:15 – Znacht\n19:30 –
  Gottesdienst\n21:00 – Snacks und open end\n\nKontakt: Valentin Huber\,
  Kloster 3\, 8224 Löhningen\, valentin.huber@ref-sh.ch\, 076 505 34 41\n
 \nWeitere Infos: https://www.ref-sh.ch/veranstaltung/150871
SUMMARY:Boxenstopp und Gemeindegottesdienst in Gächlingen
PRIORITY:5
X-MICROSOFT-CDO-IMPORTANCE:1
CLASS:PUBLIC
END:VEVENT
END:VCALENDAR
