BEGIN:VCALENDAR
PRODID:-//kirchenweb.ch gmbh//veranstaltungsausgabe v2.0//DE
VERSION:2.0
METHOD:PUBLISH
BEGIN:VEVENT
DTSTART:20240421T160000Z
DTEND:20240421T190000Z
LOCATION:Löhningen\, \,
TRANSP:OPAQUE
SEQUENCE:0
UID:150870-veranstaltung@ref-sh.ch
DTSTAMP:20240412T064441Z
DESCRIPTION:Details zu diesem Boxenstopp werden im
  Boxenstopp-WhatsApp-Chat gepostet: https://boxenstopp-klettgau.ch/chat.\n
 \nDer Boxenstopp findet im Mesmerhaus in Löhningen statt\n\n18:00 –
  Apéro ( bei schönem Wetter im Pfarrgarten)\n18:15 – Nachtessen  (bei 
  schönem Wetter im Pfarrgarten)\n19:30 – Gottesdienst  \n            
  Daniel Schellenberg aus Gächlingen erzählt aus \n             seinem
  Leben\n21:00 – Snacks und open end\n\nWeitere Infos zum Boxenstopp
  findest du unter boxenstopp.\n\nKontakt: Esther Ebi\, Römerstrasse 34\,
  8214 Gächlingen\, esther.ebi@ref-sh.ch\, 079 542 28 23\n\nWeitere Infos:
  https://www.ref-sh.ch/veranstaltung/150870
SUMMARY:Boxenstopp
PRIORITY:5
X-MICROSOFT-CDO-IMPORTANCE:1
CLASS:PUBLIC
END:VEVENT
END:VCALENDAR
