BEGIN:VCALENDAR
PRODID:-//kirchenweb.ch gmbh//veranstaltungsausgabe v2.0//DE
VERSION:2.0
METHOD:PUBLISH
BEGIN:VEVENT
DTSTART:20240218T170000Z
DTEND:20240218T200000Z
LOCATION:Mesmerhuus\, Kloster 14\, 8224 Löhningen
TRANSP:OPAQUE
SEQUENCE:0
UID:150869-veranstaltung@ref-sh.ch
DTSTAMP:20240214T163013Z
DESCRIPTION:Details zu diesem Boxenstopp werden im
  Boxenstopp-WhatsApp-Chat gepostet: https://boxenstopp-klettgau.ch/chat.\n
 \nProgramm\n18:00 – Apéro\n18:15 – Znacht\n19:30 – Gottesdienst
 \n21:00 – Snacks und open end\n\nWeitere Infos zum Boxenstopp findest du
  unter boxenstopp.\n\nKontakt: Zoé Werner\, Im Chloster 1\, 8214
  Gächlingen\, zoe.werner@ref-sh.ch\, 076 801 39 39\n\nWeitere Infos:
  https://www.ref-sh.ch/veranstaltung/150869
SUMMARY:Boxenstopp
PRIORITY:5
X-MICROSOFT-CDO-IMPORTANCE:1
CLASS:PUBLIC
END:VEVENT
END:VCALENDAR
