BEGIN:VCALENDAR
PRODID:-//kirchenweb.ch gmbh//veranstaltungsausgabe v2.0//DE
VERSION:2.0
METHOD:PUBLISH
BEGIN:VEVENT
DTSTART:20240317T170000Z
DTEND:20240317T200000Z
LOCATION:Kirchgemeindehaus Beringen\, Steig 2\, 8222 Beringen
TRANSP:OPAQUE
SEQUENCE:0
UID:150866-veranstaltung@ref-sh.ch
DTSTAMP:20240309T162717Z
DESCRIPTION:Details zu diesem Boxenstopp werden im
  Boxenstopp-WhatsApp-Chat gepostet: https://boxenstopp-klettgau.ch/chat.\n
 \nProgramm\n18:00 – Apéro\n18:15 – Znacht\n19:30 – Gottesdienst
 \n21:00 – Snacks und open end\n\nWeitere Infos zum Boxenstopp findest du
  unter boxenstopp.\n\nKontakt: Sebastian Ebi\n\nWeitere Infos:
  https://www.ref-sh.ch/veranstaltung/150866
SUMMARY:Boxenstopp
PRIORITY:5
X-MICROSOFT-CDO-IMPORTANCE:1
CLASS:PUBLIC
END:VEVENT
END:VCALENDAR
