BEGIN:VCALENDAR
PRODID:-//kirchenweb.ch gmbh//veranstaltungsausgabe v2.0//DE
VERSION:2.0
METHOD:PUBLISH
BEGIN:VEVENT
DTSTART:20231210T170000Z
DTEND:20231210T200000Z
LOCATION:Winterlislöchli\, \,  Osterfingen
TRANSP:OPAQUE
SEQUENCE:0
UID:150865-veranstaltung@ref-sh.ch
DTSTAMP:20231206T194440Z
DESCRIPTION:Am kommende Sunntig isches üsen
  Outdoor-Boxestopp!🎄💫🕯️\nMir sind im
  https://www.google.com/maps/place/H%C3%B6hle+Winterlisl%C3%B6chli\,+8217+
 Wilchingen/data=!4m2!3m1!1s0x47907b0c1b6d1a77:0x3fed0c7acdf95501?utm_sourc
 e=mstt_1&entry=gps&lucs=47068615\,\,47075915&g_ep=CAESCTExLjk0LjMwMxgAINeC
 AyoSNDcwNjg2MTUsLDQ3MDc1OTE1QgJDSA%3D%3D (Höhle).\nAu bie jedem Wetter.  
 \n\nAnreise:\n👉Mä chan selber cho (https://www.ref-sh.ch/dok/52495).
 \n👉Falls en Shuttle benötigt wird\, bitte bim
  https://www.ref-sh.ch/kg/gaechlingen/sebastian.ebi mälde.\n👉Es
  bestaht au d’möglichkeit für äh churzi Wanderig (1\,15h). Ebefals
  bim https://www.ref-sh.ch/kg/gaechlingen/sebastian.ebi ah’mälde. 
 \nTreffpunkt isch 16.30 bie de Bergkirche Neunkirch.\n\n18:00 Apéro🍹
 \n18:15 Znacht 🍖\n19:30 Gottesdienst\n\nMitbringe:\n-Geschirr für
  Suppe u. Schinken \n-Tasse \n-Bettflasche (es git warmes Wasser/ zum
  ufwärme) \n-Evtl. Stirnlampe\n\nBis dänn 🤗\n\n\nKontakt: Sebastian
  Ebi\, sebastian.ebi@ref-sh.ch\, 079 576 99 94\n\nWeitere Infos:
  https://www.ref-sh.ch/veranstaltung/150865
SUMMARY:Advents\, Outdoor -Boxenstopp
PRIORITY:5
X-MICROSOFT-CDO-IMPORTANCE:1
CLASS:PUBLIC
END:VEVENT
END:VCALENDAR
