BEGIN:VCALENDAR
PRODID:-//kirchenweb.ch gmbh//veranstaltungsausgabe v2.0//DE
VERSION:2.0
METHOD:PUBLISH
BEGIN:VEVENT
DTSTART:20231022T160000Z
DTEND:20231022T190000Z
LOCATION:Kirche Gächlingen\, \,
TRANSP:OPAQUE
SEQUENCE:0
UID:150864-veranstaltung@ref-sh.ch
DTSTAMP:20231022T202417Z
DESCRIPTION:Details zu diesem Boxenstopp werden im
  Boxenstopp-WhatsApp-Chat gepostet: https://boxenstopp-klettgau.ch/chat.\n
 \nProgramm\n18:00 – Apéro\n18:15 – Znacht\n19:30 – Gottesdienst
 \n21:00 – Snacks und open end\n\nWeitere Infos zum Boxenstopp findest du
  unter boxenstopp.\n\nKontakt: Sebastian Ebi\, sebastian.ebi@ref-sh.ch\,
  079 576 99 94\n\nWeitere Infos:
  https://www.ref-sh.ch/veranstaltung/150864
SUMMARY:Boxenstopp
PRIORITY:5
X-MICROSOFT-CDO-IMPORTANCE:1
CLASS:PUBLIC
END:VEVENT
END:VCALENDAR
