BEGIN:VCALENDAR
PRODID:-//kirchenweb.ch gmbh//veranstaltungsausgabe v2.0//DE
VERSION:2.0
METHOD:PUBLISH
BEGIN:VEVENT
DTSTART:20230813T160000Z
DTEND:20230813T190000Z
LOCATION:Neunkirch Wald \, \,
TRANSP:OPAQUE
SEQUENCE:0
UID:150863-veranstaltung@ref-sh.ch
DTSTAMP:20230811T041253Z
DESCRIPTION:Am kommende Sunntig isch Boxestopp 😊\nUnd mir hängäds mit
  de Hängemate im Nüchircher Wald 🌳🌲\n\n\nKontakt: Sebastian Ebi\,
  sebastian.ebi@ref-sh.ch\, 079 576 99 94\n\nWeitere Infos:
  https://www.ref-sh.ch/veranstaltung/150863
SUMMARY:Boxenstopp
PRIORITY:5
X-MICROSOFT-CDO-IMPORTANCE:1
CLASS:PUBLIC
END:VEVENT
END:VCALENDAR
