BEGIN:VCALENDAR
PRODID:-//kirchenweb.ch gmbh//veranstaltungsausgabe v2.0//DE
VERSION:2.0
METHOD:PUBLISH
BEGIN:VEVENT
DTSTART:20230920T050000Z
DTEND:20230920T054500Z
LOCATION:Mesmerhuus Saal\, Kloster 14\, 8222 Löhningen
TRANSP:OPAQUE
SEQUENCE:0
UID:150756-veranstaltung@ref-sh.ch
DTSTAMP:20230422T080855Z
DESCRIPTION:Kontakt: ruedi.spoerndli@ref-sh.ch\n\nWeitere Infos:
  https://www.ref-sh.ch/veranstaltung/150756
SUMMARY:Frühgebet
PRIORITY:5
X-MICROSOFT-CDO-IMPORTANCE:1
CLASS:PUBLIC
END:VEVENT
END:VCALENDAR
