BEGIN:VCALENDAR
PRODID:-//kirchenweb.ch gmbh//veranstaltungsausgabe v2.0//DE
VERSION:2.0
METHOD:PUBLISH
BEGIN:VEVENT
DTSTART:20230518T090000Z
DTEND:20230518T100000Z
LOCATION:Zelgli (Randen)\, Zelgliwiese\, 8228 Beggingen
TRANSP:OPAQUE
SEQUENCE:0
UID:150741-veranstaltung@ref-sh.ch
DTSTAMP:20230517T085726Z
DESCRIPTION:Predigt: Pfarrerin Jutta Schenk\, Beringen \nLiturgie: Pfarrer
  Beat Wanner\, PAG Randen (Hemmental und Merishausen-Bargen)\nMusik:
  Musikverein Merishausen\nKinderprogramm: Sonntagschule Hemmental\n
 \nAnschliessend Bräteln (Essen mitbringen). Kuchen- und Getränkebuffet
  durch Kirchenstand Beringen zugunsten von HEKS - Brot für alle\n\nBus
  von Hemmental: http://www.randenbus.ch\, Plätze reservieren \n\nBei
  Regen um 10 Uhr in der reformierten Kirche Merishausen. 
 \nWetterentscheid: Tel. 052 624 25 15 (Mittwoch ab 13.00 Uhr) oder hier
  auf der Homepage.\n\nEs laden ein die acht reformierten
  Randenkirchgemeinden: Beggingen\, Schleitheim\, Siblingen\, Gächlingen\,
  Löhningen-Guntmadingen\, Beringen\, Hemmental und Merishausen-Bargen\n
 \nEs laden ein:\nPfarrerin Jutta Schenk\, Gellerstrasse 80\, 8222
  Beringen\, jutta.schenk@ref-sh.ch\, 052 682 13 37\nPfr. Beat Wanner\,
  Schlattergarten 10\, 8231 Hemmental\, beat.wanner@ref-sh.ch\, 052 685 42
  55\n\nKontakt: doris.brodbeck@ref-sh.ch\n\nWeitere Infos:
  https://www.ref-sh.ch/veranstaltung/150741
SUMMARY:Zelgli-Gottesdienst an Auffahrt findet auf Randen statt
PRIORITY:5
X-MICROSOFT-CDO-IMPORTANCE:1
CLASS:PUBLIC
END:VEVENT
END:VCALENDAR
