BEGIN:VCALENDAR
PRODID:-//kirchenweb.ch gmbh//veranstaltungsausgabe v2.0//DE
VERSION:2.0
METHOD:PUBLISH
BEGIN:VEVENT
DTSTART:20231125T123000Z
DTEND:20231125T160000Z
LOCATION:\, \,
TRANSP:OPAQUE
SEQUENCE:0
UID:150710-veranstaltung@ref-sh.ch
DTSTAMP:20231120T112700Z
DESCRIPTION:Hallo Zusammen\n\nAm Samstag ist wieder Jungschi :D Wir sind
  im Mehrzweckgebäude Oberhallau und werden die Lachmuskulatur trainieren.
 \n\nTreffpunkt:\n13.30 Mehrzweckgebäude (Turnhalle) Oberhallau\n\nEnde:
 \n17:00 Mehrzweckgebäude (Turnhalle) Oberhallau\n\nMitnehmen:\nKleider
  dem Wetter entsprechend (Wir sind dennoch eine Weile draussen)
 \nTurnkleider und Schuhe werden nicht gebraucht\nRucksack mit:\n-
  Jungschibüechli\n- Zündholzschachtel\n- Strick\n- Trinkflasche\n-
  Sackmesser\n\nBei Fragen aller Art:\nMatthias Niklaus
 \nmatthias.niklaus@ref-sh.ch\n079 382 82 07\n\nMit besten Grüssen im
  Namen des Jungschi Teams\n\nMädde\n
 \nhttps://www.ref-sh.ch/gruppe/jungschiprogramm gehts zur Anmeldung für
  unseren Newsletter\, eine Erinnerung mit den Daten zu den Nachmittagen
  verschicken wir jeweils in der Woche vorher.\n\nMatthias Niklaus\n
 \nKontakt: matthias.niklaus@ref-sh.ch\n\nWeitere Infos:
  https://www.ref-sh.ch/veranstaltung/150710
SUMMARY:Jungschi
PRIORITY:5
X-MICROSOFT-CDO-IMPORTANCE:1
CLASS:PUBLIC
END:VEVENT
END:VCALENDAR
