BEGIN:VCALENDAR
PRODID:-//kirchenweb.ch gmbh//veranstaltungsausgabe v2.0//DE
VERSION:2.0
METHOD:PUBLISH
BEGIN:VEVENT
DTSTART:20231111T123000Z
DTEND:20231111T160000Z
LOCATION:\, \,
TRANSP:OPAQUE
SEQUENCE:0
UID:150709-veranstaltung@ref-sh.ch
DTSTAMP:20231108T210700Z
DESCRIPTION:Hallo Zusammen\n\nAm Samstag ist wieder Jungschi:D Wir werden
  einen lässigen Nachmittag draussen verbringen. Aber keine Angst wir
  werden genug warm bekommen.\n\nTreffpunkt:\n13.30 Mesmerhaus Löhningen\n
 \nEnde:\n17:00 Mesmerhaus Löhningen\n\nMitnehmen:\nKleider dem Wetter
  entsprechend\, wir sind draussen\nRucksack mit:\n- Jungschibüechli\n-
  Zündholzschachtel\n- Strick\n- Trinkflasche\n- Sackmesser\n\nBei Fragen
  aller Art:\nZoé Werner\nzoe.werner@ref-sh.ch\n076 801 39 39\n
 \nhttps://www.ref-sh.ch/gruppe/jungschiprogramm gehts zur Anmeldung für
  unseren Newsletter\, eine Erinnerung mit den Daten zu den Nachmittagen
  verschicken wir jeweils in der Woche vorher.\n\nZoé Werner\n\nKontakt:
  matthias.niklaus@ref-sh.ch\n\nWeitere Infos:
  https://www.ref-sh.ch/veranstaltung/150709
SUMMARY:Jungschi
PRIORITY:5
X-MICROSOFT-CDO-IMPORTANCE:1
CLASS:PUBLIC
END:VEVENT
END:VCALENDAR
