BEGIN:VCALENDAR
PRODID:-//kirchenweb.ch gmbh//veranstaltungsausgabe v2.0//DE
VERSION:2.0
METHOD:PUBLISH
BEGIN:VEVENT
DTSTART:20240428T150000Z
DTEND:20240428T160000Z
LOCATION:Münster\, Münsterplatz\, 8200 Schaffhausen
TRANSP:OPAQUE
SEQUENCE:0
UID:150680-veranstaltung@ref-sh.ch
DTSTAMP:20240227T163012Z
DESCRIPTION:Tobias Lindner wurde 1975 in Deggendorf (Bayerischer Wald)
  geboren. Er erlernte das Orgelspiel bei Wolfgang Riegraf und Roland
  Götz.\nIm Rahmen seines Kirchenmusikstudiums studierte er in Regensburg
  Orgel bei Karl Friedrich Wagner und in Freiburg bei Klemens Schnorr. Nach
  dem A-Examen in Freiburg schloss er das Diplom „Alte Musik“ an der
  Schola Cantorum in Basel „mit Auszeichnung“ ab. Er studierte dort bei
  Andrea Marcon Orgel und Cembalo\, und bei Gottfried Bach Generalbass.
 \nLindner besuchte knapp 40 Kurse bei den grossen Namen der Orgelwelt\, um
  mit möglichst vielen Facetten der Orgel und ihrer Musik in Berührung zu
  kommen.\nEr ist Preisträger verschiedener internationaler
  Orgelwettbewerbe (Innsbruck\, Brügge\, Nürnberg\, Landau).\nIn den
  Jahren 2001 bis 2005 war er regelmäßig als Cembalist und Organist beim
  Venice Baroque Orchestra unter Andrea Marcon verpflichtet. \nLindner ist
  seit 2002 hauptberuflicher Kirchenmusiker in Basel und hat an der
  dortigen Schola Cantorum einen Lehrauftrag für Generalbass und Cembalo.
  Zudem war er von 2004 bis 2016 Lehrbeauftragter für Orgel und
  Improvisation an der Musikhochschule in Hannover.\nSeit März 2016 ist er
  Professor für Orgel an der Schola Cantorum Basiliensis. \n\nTobias
  Lindner spielt Werke von Janca\, Arauxo\, Purcell\, Zsiross\, Gronau\,
  Lemare\, Langlais und Bach\n\nhttps://www.orgelkonzerte-sh.ch/konzerte/\n
 \nKontakt: Andreas Jud\n\nWeitere Infos:
  https://www.ref-sh.ch/veranstaltung/150680
SUMMARY:Orgelkonzert Tobias Lindner
PRIORITY:5
X-MICROSOFT-CDO-IMPORTANCE:1
CLASS:PUBLIC
END:VEVENT
END:VCALENDAR
