BEGIN:VCALENDAR
PRODID:-//kirchenweb.ch gmbh//veranstaltungsausgabe v2.0//DE
VERSION:2.0
METHOD:PUBLISH
BEGIN:VEVENT
DTSTART:20240414T150000Z
DTEND:20240414T160000Z
LOCATION:St.Johann\, Kirchhofplatz\, 8200 Schaffhausen
TRANSP:OPAQUE
SEQUENCE:0
UID:150679-veranstaltung@ref-sh.ch
DTSTAMP:20240227T163011Z
DESCRIPTION:Die in Montreal (Kanada) geborene Organistin Julie
  Pinsonneault zählt zur jungen\, aufstrebenden Organistengeneration. Sie
  hat ihre musikalische Ausbildung in mehreren bekannten Einrichtungen
  genossen. Neben einem Bachelorabschluss in Musik hat sie an der McGill
  Universität (Montreal) Orgel gespielt\, an welcher sie Schülerin bei
  John Grew und Hans-Ola Ericsson war. Zudem hat Julie Pinsonneault
  erfolgreich einen Master in Musikwissenschaft und Orgelspiel an der
  Hochschule für Künste in Toulouse (Frankreich) sowie an der
  Universität Toulouse-Jean Jaurès abgeschlossen. Dort studierte sie bei
  Michel Bouvard und Jan Willem Jansen. Ausserdem ist sie Absolventin eines
  Masters in Kirchenmusik an der Musikhochschule Freiburg. Im Mai 2011
  gewann sie in Montreal den ersten Preis beim Orgelwettbewerb Lynnwood
  Farnam. Des weiteren gewann sie einen Ehrenpreis beim Internationalen
  Mikael-Tariverdiev-Orgelwettbewerb (Russland) im Jahr 2013.\nDie von La
  Presse-Kritiker Claude Gingras als "Entdeckung" gelobte Julie
  Pinsonneault tritt regelmäßig als Solistin in Nordamerika und Europa
  auf. Ihre Karriere als Orgelsolistin hat es ihr bereits ermöglicht\,
  insbesondere in der Basilika Notre-Dame von Montreal (Kanada)\, der
  Basilika St-Sernin von Toulouse (Frankreich)\, dem Festival Toulouse les
  Orgues 2015\, dem Oratoire St-Joseph von Montreal (Kanada)\, Woolsey Hall
  (USA)\, der Basilika Notre-Dame von Quebec (Kanada)\, sowie mit dem
  Philharmonischen Orchester Freiburg (2023) zu spielen.\nZurzeit wohnt
  Julie Pinsonneault in Deutschland\, wo sie als Titularorganistin der
  Universitätskirche von Freiburg im Breisgau wirkt.\nJulie Pinsonneault
  ist die Leiterin und Gründerin des Ensemble Messiaen Freiburg. Sie wird
  von der Agentur Seven Eight Artists vertreten.\n\nJulie Pinsonneault
  spielt Werke von Duruflé\, Françaix\, Alain\, Matton\, Tanguay und
  Messiaen\n\nhttps://www.orgelkonzerte-sh.ch/konzerte/\n\nKontakt: Andreas
  Jud\n\nWeitere Infos: https://www.ref-sh.ch/veranstaltung/150679
SUMMARY:Orgelkonzert Julie Pinsonneault
PRIORITY:5
X-MICROSOFT-CDO-IMPORTANCE:1
CLASS:PUBLIC
END:VEVENT
END:VCALENDAR
