BEGIN:VCALENDAR
PRODID:-//kirchenweb.ch gmbh//veranstaltungsausgabe v2.0//DE
VERSION:2.0
METHOD:PUBLISH
BEGIN:VEVENT
DTSTART:20240317T160000Z
DTEND:20240317T170000Z
LOCATION:St.Johann\, Kirchhofplatz\, 8200 Schaffhausen
TRANSP:OPAQUE
SEQUENCE:0
UID:150678-veranstaltung@ref-sh.ch
DTSTAMP:20240716T200527Z
DESCRIPTION:Christian Barthen (*1984 in Saarbrücken)\, Organist und
  künstlerischer Leiter der Musik am Berner Münster\, Orgelprofessor an
  der Hochschule der Künste in Bern (HKB)\, internationaler
  Konzertorganist. Studien in Orgel\, Klavier und Cembalo sowie
  Kirchenmusik und Musikpädagogik in Saarbrücken\, Paris und Stuttgart.
  Preisträger renommierter Orgel- und Musikwettbewerbe\, u.a. beim
  „Grand Prix de Chartres“. Internationale Konzertkarriere als Organist
  in ganz Europa\, Russland\, Südamerika und Fernost. Rundfunk- Fernseh-
  und CD-Produktionen bei Naxos classics und Ifo/Organ sowie diversen
  Sendern der ARD\, SRF und Radio France. Expertentätigkeit und
  Gastdozenturen an div. Musikhochschulen und Universitäten in
  Deutschland\, der Schweiz\, Südkorea\, Kolumbien und Finnland.\n
 \nChristian Barthen spielt Werke von Bach\, Schumann\, Franck und Reger\n
 \nhttps://www.orgelkonzerte-sh.ch/konzerte/\n\nKontakt: Andreas Jud\n
 \nWeitere Infos: https://www.ref-sh.ch/veranstaltung/150678
SUMMARY:Orgelkonzert Christian Barthen
PRIORITY:5
X-MICROSOFT-CDO-IMPORTANCE:1
CLASS:PUBLIC
END:VEVENT
END:VCALENDAR
