BEGIN:VCALENDAR
PRODID:-//kirchenweb.ch gmbh//veranstaltungsausgabe v2.0//DE
VERSION:2.0
METHOD:PUBLISH
BEGIN:VEVENT
DTSTART:20231222T164500Z
DTEND:20231222T173000Z
LOCATION:Check-in-Raum Beringen\, Zelgstrasse 8\, 8222 Beringen
TRANSP:OPAQUE
SEQUENCE:0
UID:150677-veranstaltung@ref-sh.ch
DTSTAMP:20230624T093601Z
DESCRIPTION:Jugendgottesdienst Beringen\, für einmal nicht in der
  Kirche\, sondern im Check-in-Raum. Anschliessend Check-in Beringen.\n
 \nKontakt: Pfarrer Lukas Huber\n\nWeitere Infos:
  https://www.ref-sh.ch/veranstaltung/150677
SUMMARY:Jugendgottesdienst Beringen
PRIORITY:5
X-MICROSOFT-CDO-IMPORTANCE:1
CLASS:PUBLIC
END:VEVENT
END:VCALENDAR
