BEGIN:VCALENDAR
PRODID:-//kirchenweb.ch gmbh//veranstaltungsausgabe v2.0//DE
VERSION:2.0
METHOD:PUBLISH
BEGIN:VEVENT
DTSTART:20231208T164500Z
DTEND:20231208T173000Z
LOCATION:Ref. Kirche Beringen\, Postberg 21\, 8222 Beringen
TRANSP:OPAQUE
SEQUENCE:0
UID:150676-veranstaltung@ref-sh.ch
DTSTAMP:20231021T143103Z
DESCRIPTION:anschliessend Check-in Beringen\n\nKontakt: \n\nWeitere Infos:
  https://www.ref-sh.ch/veranstaltung/150676
SUMMARY:Jugendgottesdienst Beringen
PRIORITY:5
X-MICROSOFT-CDO-IMPORTANCE:1
CLASS:PUBLIC
END:VEVENT
END:VCALENDAR
