BEGIN:VCALENDAR
PRODID:-//kirchenweb.ch gmbh//veranstaltungsausgabe v2.0//DE
VERSION:2.0
METHOD:PUBLISH
BEGIN:VEVENT
DTSTART:20231117T164500Z
DTEND:20231117T173000Z
LOCATION:Ref. Kirche Beringen\, Postberg 21\, 8222 Beringen
TRANSP:OPAQUE
SEQUENCE:0
UID:150675-veranstaltung@ref-sh.ch
DTSTAMP:20231026T064052Z
DESCRIPTION:Jugendgottesdienst\, heute mit Annika Spichiger. Anschliessend
  Check-in Beringen.\n\nKontakt: Pfarrer Lukas Huber\n\nWeitere Infos:
  https://www.ref-sh.ch/veranstaltung/150675
SUMMARY:Jugendgottesdienst Beringen
PRIORITY:5
X-MICROSOFT-CDO-IMPORTANCE:1
CLASS:PUBLIC
END:VEVENT
END:VCALENDAR
