BEGIN:VCALENDAR
PRODID:-//kirchenweb.ch gmbh//veranstaltungsausgabe v2.0//DE
VERSION:2.0
METHOD:PUBLISH
BEGIN:VEVENT
DTSTART:20240331T050000Z
DTEND:20240331T060000Z
LOCATION:Kirche\, Kirchstrasse 8\, 8214 Gächlingen
TRANSP:OPAQUE
SEQUENCE:0
UID:150507-veranstaltung@ref-sh.ch
DTSTAMP:20240415T135955Z
DESCRIPTION:Wir besammeln uns im Dunkeln beim Osterfeuer vor der Kirche
  und gehen gemeinsam dem Licht und der Osterfreude entgegen.
 \nAnschliessend geniessen wir den
  https://www.ref-sh.ch/kg/gaechlingen/veranstaltung/158521\n\nKontakt:
  Marianne Näf-Bräker\n\nWeitere Infos:
  https://www.ref-sh.ch/veranstaltung/150507
SUMMARY:Osterfeier
PRIORITY:5
X-MICROSOFT-CDO-IMPORTANCE:1
CLASS:PUBLIC
END:VEVENT
END:VCALENDAR
