BEGIN:VCALENDAR
PRODID:-//kirchenweb.ch gmbh//veranstaltungsausgabe v2.0//DE
VERSION:2.0
METHOD:PUBLISH
BEGIN:VEVENT
DTSTART:20230521T080000Z
DTEND:20230521T090000Z
LOCATION:Mesmerhuus\, Kloster 14\, 8224 Löhningen
TRANSP:OPAQUE
SEQUENCE:0
UID:150363-veranstaltung@ref-sh.ch
DTSTAMP:20230520T164255Z
DESCRIPTION:Während des Gottesdienstes werden Kinder bis ungefähr vier
  Jahren in der Chindehüeti betreut. Ältere Kinder sind herzlich
  eingeladen in den Konfirmations-Gottesdienst.\n\nKontakt: Ursula
  Schöttli\n\nWeitere Infos: https://www.ref-sh.ch/veranstaltung/150363
SUMMARY:Chindehüeti
PRIORITY:5
X-MICROSOFT-CDO-IMPORTANCE:1
CLASS:PUBLIC
END:VEVENT
END:VCALENDAR
