BEGIN:VCALENDAR
PRODID:-//kirchenweb.ch gmbh//veranstaltungsausgabe v2.0//DE
VERSION:2.0
METHOD:PUBLISH
BEGIN:VEVENT
DTSTART:20230329T170000Z
DTEND:20230329T183000Z
LOCATION:Mesmerhuus\, Kloster 14\, 8224 Löhningen
TRANSP:OPAQUE
SEQUENCE:0
UID:150332-veranstaltung@ref-sh.ch
DTSTAMP:20230328T191041Z
DESCRIPTION:Kontakt: Philippe Niklaus \n\nWeitere Infos:
  https://www.ref-sh.ch/veranstaltung/150332
SUMMARY:Check in Quartalssitzung
PRIORITY:5
X-MICROSOFT-CDO-IMPORTANCE:1
CLASS:PUBLIC
END:VEVENT
END:VCALENDAR
