BEGIN:VCALENDAR
PRODID:-//kirchenweb.ch gmbh//veranstaltungsausgabe v2.0//DE
VERSION:2.0
METHOD:PUBLISH
BEGIN:VEVENT
DTSTART:20231025T120000Z
DTEND:20231025T150000Z
LOCATION:Herrengasse 26\, \,
TRANSP:OPAQUE
SEQUENCE:0
UID:150234-veranstaltung@ref-sh.ch
DTSTAMP:20230404T115544Z
DESCRIPTION:Kontakt: ruedi.spoerndli@ref-sh.ch\n\nWeitere Infos:
  https://www.ref-sh.ch/veranstaltung/150234
SUMMARY:Senioren-Nachmittagstreff im Bistro Storchen
PRIORITY:5
X-MICROSOFT-CDO-IMPORTANCE:1
CLASS:PUBLIC
END:VEVENT
END:VCALENDAR
