BEGIN:VCALENDAR
PRODID:-//kirchenweb.ch gmbh//veranstaltungsausgabe v2.0//DE
VERSION:2.0
METHOD:PUBLISH
BEGIN:VEVENT
DTSTART:20230830T120000Z
DTEND:20230830T150000Z
LOCATION:Herrengasse 26\, \,
TRANSP:OPAQUE
SEQUENCE:0
UID:150233-veranstaltung@ref-sh.ch
DTSTAMP:20230404T115515Z
DESCRIPTION:Referat von Pfr. Koch.\n\nKontakt: ruedi.spoerndli@ref-sh.ch\n
 \nWeitere Infos: https://www.ref-sh.ch/veranstaltung/150233
SUMMARY:Senioren-Nachmittagstreff im Bistro Storchen
PRIORITY:5
X-MICROSOFT-CDO-IMPORTANCE:1
CLASS:PUBLIC
END:VEVENT
END:VCALENDAR
