BEGIN:VCALENDAR
PRODID:-//kirchenweb.ch gmbh//veranstaltungsausgabe v2.0//DE
VERSION:2.0
METHOD:PUBLISH
BEGIN:VEVENT
DTSTART:20230607T120000Z
DTEND:20230607T150000Z
LOCATION:Kafi Sunnegg\, Dorfstrasse 29\, 8223 Guntmadingen
TRANSP:OPAQUE
SEQUENCE:0
UID:150228-veranstaltung@ref-sh.ch
DTSTAMP:20230404T115425Z
DESCRIPTION:Kontakt: ruedi.spoerndli@ref-sh.ch\n\nWeitere Infos:
  https://www.ref-sh.ch/veranstaltung/150228
SUMMARY:Senioren-Nachmittagstreff im Kafi Sunnegg in Guntmadingen
PRIORITY:5
X-MICROSOFT-CDO-IMPORTANCE:1
CLASS:PUBLIC
END:VEVENT
END:VCALENDAR
