BEGIN:VCALENDAR
PRODID:-//kirchenweb.ch gmbh//veranstaltungsausgabe v2.0//DE
VERSION:2.0
METHOD:PUBLISH
BEGIN:VEVENT
DTSTART:20230412T120000Z
DTEND:20230412T150000Z
LOCATION:Bistro Storchen\, Herrengasse 26\, 8224 Löhningen
TRANSP:OPAQUE
SEQUENCE:0
UID:150227-veranstaltung@ref-sh.ch
DTSTAMP:20230404T115834Z
DESCRIPTION:Reisen in den Lüften.Der ehemalige Captain Markus Müller und
  Flight Attendant Monique Walter erzählen.\n\nKontakt:
  ruedi.spoerndli@ref-sh.ch\n\nWeitere Infos:
  https://www.ref-sh.ch/veranstaltung/150227
SUMMARY:Senioren-Nachmittagstreff im Bistro Storchen
PRIORITY:5
X-MICROSOFT-CDO-IMPORTANCE:1
CLASS:PUBLIC
END:VEVENT
END:VCALENDAR
