BEGIN:VCALENDAR
PRODID:-//kirchenweb.ch gmbh//veranstaltungsausgabe v2.0//DE
VERSION:2.0
METHOD:PUBLISH
BEGIN:VEVENT
DTSTART:20240218T100000Z
DTEND:20240218T110000Z
LOCATION:HofAckerZentrum\, Alpenstrasse 176\, 8203 Schaffhausen
TRANSP:OPAQUE
SEQUENCE:0
UID:150044-veranstaltung@ref-sh.ch
DTSTAMP:20240320T093112Z
DESCRIPTION:Der Erlös geht vollumfänglich an die Aktion "HEKS/Brot für
  alle". \n\nKontakt: Daniel Müller\n\nWeitere Infos:
  https://www.ref-sh.ch/veranstaltung/150044
SUMMARY:Familiengottesdienst zur Aktion "HEKS/Brot für alle"
PRIORITY:5
X-MICROSOFT-CDO-IMPORTANCE:1
CLASS:PUBLIC
END:VEVENT
END:VCALENDAR
