BEGIN:VCALENDAR
PRODID:-//kirchenweb.ch gmbh//veranstaltungsausgabe v2.0//DE
VERSION:2.0
METHOD:PUBLISH
BEGIN:VEVENT
DTSTART:20230701T113000Z
DTEND:20230701T160000Z
LOCATION:Zwinglikirche\, Hochstrasse 202\, 8200 Schaffhausen
TRANSP:OPAQUE
SEQUENCE:0
UID:149832-veranstaltung@ref-sh.ch
DTSTAMP:20230622T125328Z
DESCRIPTION:Runder Tisch für Opfer von fürsorgerischen Zwangsmassnahmen
  und Fremdplatzierungen und nahe Angehörige. Es soll ein Raum geschaffen
  werden\, in dem sich Betroffene und Angehörige unter sich austauschen
  und ihre Bedürfnisse und Anliegen formulieren können. Dieses Treffen
  gilt als Grundlage für einen Bericht zuhanden des Schaffhauser
  Regierungsrates\, um den Bedarf für mögliche Unterstützungsmassnahmen
  für Betroffene zu klären. Nach wie vor besteht nicht nur grosser
  Diskussions-\, sondern auch Handlungsbedarf.\nDas Vorbereitungsteam:
  Markus Plüss\, Beauftragter OFZM /  Claudine Frey\, Leiterin Selbsthilfe
  Winterthur Schaffhausen / Jeannine Beck\, Betroffene / Patrick Müller\,
  Antiaggressionstrainer\, Betroffener / Nicole Russenberger\,
  Sozialdiakonin\, Betroffene\n\nKontakt: Nicole Russenberger\,
  Sozialdiakonie\n\nWeitere Infos:
  https://www.ref-sh.ch/veranstaltung/149832
SUMMARY:"Runder Tisch" für Opfer von fürsorgerischen Zwangsmassnahmen
PRIORITY:5
X-MICROSOFT-CDO-IMPORTANCE:1
CLASS:PUBLIC
END:VEVENT
END:VCALENDAR
