BEGIN:VCALENDAR
PRODID:-//kirchenweb.ch gmbh//veranstaltungsausgabe v2.0//DE
VERSION:2.0
METHOD:PUBLISH
BEGIN:VEVENT
DTSTART:20240118T110000Z
DTEND:20240118T122000Z
LOCATION:Steigsaal\, Nordstrasse 33\, 8200 Schaffhausen
TRANSP:OPAQUE
SEQUENCE:0
UID:149754-veranstaltung@ref-sh.ch
DTSTAMP:20240115T081528Z
DESCRIPTION:Anmeldung bis 16. Januar an stephanie.lemke-signer@ref-sh.ch\n
 \nKontakt: \n\nWeitere Infos: https://www.ref-sh.ch/veranstaltung/149754
SUMMARY:FäZ - Family-Zmittag
PRIORITY:5
X-MICROSOFT-CDO-IMPORTANCE:1
CLASS:PUBLIC
END:VEVENT
END:VCALENDAR
