BEGIN:VCALENDAR
PRODID:-//kirchenweb.ch gmbh//veranstaltungsausgabe v2.0//DE
VERSION:2.0
METHOD:PUBLISH
BEGIN:VEVENT
DTSTART:20230304T122000Z
DTEND:20230304T162000Z
LOCATION:Gächlingen\, \,
TRANSP:OPAQUE
SEQUENCE:0
UID:149623-veranstaltung@ref-sh.ch
DTSTAMP:20230228T200151Z
DESCRIPTION:Am Samstag ist wieder Ameisli!\nWir werden einen spannenden
  Nachmittag in der Natur verbringen und vieles darüber lernen.\nAlso zieh
  dich dem Wetter entsprechend an und komm zum Treffpunkt!\n\nMitnehmen:
 \n-Wetterentsprechende Kleidung\n-gefüllte Trinkflasche\n-Gute Laune
 \n-Busgeld\n\nStart:\nLöhningen: 13.30 Brunnen Bushaltestelle Dorf
 \nGächlingen: 13.50 Buhaltestelle Dorf\, Richtung Neunkirch
 \nOberhallau/Guntmadingen: Nach Absprache\n\nEnde:\nGächlingen: 17.05
  Bushaltestelle Dorf\, Richtung Siblingen\nLöhningen: 17.20 Brunnen
  Bushaltestelle Dorf\nOberhallau/Guntmadingen: Nach Absprache\n\nKontakt:
  Anja Ryser\n\nWeitere Infos: https://www.ref-sh.ch/veranstaltung/149623
SUMMARY:Ameisli in Gächlingen
PRIORITY:5
X-MICROSOFT-CDO-IMPORTANCE:1
CLASS:PUBLIC
END:VEVENT
END:VCALENDAR
