BEGIN:VCALENDAR
PRODID:-//kirchenweb.ch gmbh//veranstaltungsausgabe v2.0//DE
VERSION:2.0
METHOD:PUBLISH
BEGIN:VEVENT
DTSTART:20230224T080000Z
DTEND:20230224T090000Z
LOCATION:Kirche\, \,
TRANSP:OPAQUE
SEQUENCE:0
UID:149489-veranstaltung@ref-sh.ch
DTSTAMP:20230220T205541Z
DESCRIPTION:Die Kirchgemeinden sind aufgerufen am Freitag\, 24. Februar
  von 8.55 Uhr bis 9.00 Uhr eine Glocke zu läuten und sich der
  anschliessenden Schweigeminute anzuschliessen.\n\nWir machen mit.\n
 \nKontakt: beat.frefel@ref-sh.ch\n\nWeitere Infos:
  https://www.ref-sh.ch/veranstaltung/149489
SUMMARY:Schweigeminute für den Frieden
PRIORITY:5
X-MICROSOFT-CDO-IMPORTANCE:1
CLASS:PUBLIC
END:VEVENT
END:VCALENDAR
