BEGIN:VCALENDAR
PRODID:-//kirchenweb.ch gmbh//veranstaltungsausgabe v2.0//DE
VERSION:2.0
METHOD:PUBLISH
BEGIN:VEVENT
DTSTART:20240418T123000Z
DTEND:20240418T133000Z
LOCATION:Steigsaal\, Nordstrasse 33\, 8200 Schaffhausen
TRANSP:OPAQUE
SEQUENCE:0
UID:149421-veranstaltung@ref-sh.ch
DTSTAMP:20240311T142654Z
DESCRIPTION:"Bilder entlang der Schweizer Grenze: Teilstück von St.
  Gingolph nach Gondo" - Vortrag von Walter Rühli. Anmeldung: E.
  Ruckstuhl\, 052 624 20 76 oder E. Brun\, 052 625 86 79\n\nKontakt: Pfr.
  Martin Baumgartner\n\nWeitere Infos:
  https://www.ref-sh.ch/veranstaltung/149421
SUMMARY:Themen-Nachmittag
PRIORITY:5
X-MICROSOFT-CDO-IMPORTANCE:1
CLASS:PUBLIC
END:VEVENT
END:VCALENDAR
