BEGIN:VCALENDAR
PRODID:-//kirchenweb.ch gmbh//veranstaltungsausgabe v2.0//DE
VERSION:2.0
METHOD:PUBLISH
BEGIN:VEVENT
DTSTART:20230402T074500Z
DTEND:20230402T084500Z
LOCATION:Mesmerhuus\, Kloster 14\, 8224 Löhningen
TRANSP:OPAQUE
SEQUENCE:0
UID:149391-veranstaltung@ref-sh.ch
DTSTAMP:20230331T092913Z
DESCRIPTION:Während des Gottesdienstes werden Kinder bis ungefähr vier
  Jahren in der Chindehüeti betreut. Ältere Kinder sind herzlich
  eingeladen in den Gottesdienst.\n\nKontakt: Ursula Schöttli\n\nWeitere
  Infos: https://www.ref-sh.ch/veranstaltung/149391
SUMMARY:Chindehüeti
PRIORITY:5
X-MICROSOFT-CDO-IMPORTANCE:1
CLASS:PUBLIC
END:VEVENT
END:VCALENDAR
