BEGIN:VCALENDAR
PRODID:-//kirchenweb.ch gmbh//veranstaltungsausgabe v2.0//DE
VERSION:2.0
METHOD:PUBLISH
BEGIN:VEVENT
DTSTART:20230305T084500Z
DTEND:20230305T094500Z
LOCATION:Mesmerhuus\, Kloster 14\, 8224 Löhningen
TRANSP:OPAQUE
SEQUENCE:0
UID:149387-veranstaltung@ref-sh.ch
DTSTAMP:20230226T080954Z
DESCRIPTION:Während des Gottesdienstes werden Kinder bis ungefähr vier
  Jahren in der Chindehüeti betreut.\n\nKinder ab 1. Kindergarten-Jahr
  sind herzlich eingeladen in die
  https://www.ref-sh.ch/kg/loehningen/veranstaltung/147985\n\nKontakt:
  Ursula Schöttli\n\nWeitere Infos:
  https://www.ref-sh.ch/veranstaltung/149387
SUMMARY:Chindehüeti
PRIORITY:5
X-MICROSOFT-CDO-IMPORTANCE:1
CLASS:PUBLIC
END:VEVENT
END:VCALENDAR
