BEGIN:VCALENDAR
PRODID:-//kirchenweb.ch gmbh//veranstaltungsausgabe v2.0//DE
VERSION:2.0
METHOD:PUBLISH
BEGIN:VEVENT
DTSTART:20231210T160000Z
DTEND:20231210T173000Z
LOCATION:Kirche\, Kirchstrasse 8\, 8214 Gächlingen
TRANSP:OPAQUE
SEQUENCE:0
UID:149379-veranstaltung@ref-sh.ch
DTSTAMP:20231210T183102Z
DESCRIPTION:Mit weihnachtlichen Melodien lässt die Brass Band Hallau den
  zweiten Advent ausklingen.\n\nKontakt: marianne.naef@ref-sh.ch\n\nWeitere
  Infos: https://www.ref-sh.ch/veranstaltung/149379
SUMMARY:Adventskonzert Brass Band Hallau
PRIORITY:5
X-MICROSOFT-CDO-IMPORTANCE:1
CLASS:PUBLIC
END:VEVENT
END:VCALENDAR
