BEGIN:VCALENDAR
PRODID:-//kirchenweb.ch gmbh//veranstaltungsausgabe v2.0//DE
VERSION:2.0
METHOD:PUBLISH
BEGIN:VEVENT
DTSTART:20240121T093000Z
DTEND:20240121T103000Z
LOCATION:Kirche Löhningen\, Kloster 3\, 8224 Löhningen
TRANSP:OPAQUE
SEQUENCE:0
UID:148885-veranstaltung@ref-sh.ch
DTSTAMP:20250730T095742Z
DESCRIPTION:Gottesdienst zum Abschluss des Jahresprojekts 2023 mit Christa
  Bauer von TearFund und mit Pfarrer Lukas Huber. Christa Bauer wird
  erzählen\, wie sich das
  https://www.tearfund.ch/laender-und-projekte/malawi/nachhaltig-gegen-hung
 er/ im Jahr 2023 entwickelt hat.\n\nAnschliessend Suppezmittag im
  Kleeblatt-Saal.\n\n\nKontakt: Pfarrer Lukas Huber\n\nWeitere Infos:
  https://www.ref-sh.ch/veranstaltung/148885
SUMMARY:Gottesdienst zum Abschluss des Jahresprojekts 2023
PRIORITY:5
X-MICROSOFT-CDO-IMPORTANCE:1
CLASS:PUBLIC
END:VEVENT
END:VCALENDAR
