BEGIN:VCALENDAR
PRODID:-//kirchenweb.ch gmbh//veranstaltungsausgabe v2.0//DE
VERSION:2.0
METHOD:PUBLISH
BEGIN:VEVENT
DTSTART:20230701T113000Z
DTEND:20230701T150000Z
LOCATION:Löhningen\, \,
TRANSP:OPAQUE
SEQUENCE:0
UID:148882-veranstaltung@ref-sh.ch
DTSTAMP:20230216T130231Z
DESCRIPTION:Infos folgen\n\nKontakt: Anja Ryser\n\n\nWeitere Infos:
  https://www.ref-sh.ch/veranstaltung/148882
SUMMARY:Ameisli zusammen mit Jungschi
PRIORITY:5
X-MICROSOFT-CDO-IMPORTANCE:1
CLASS:PUBLIC
END:VEVENT
END:VCALENDAR
