BEGIN:VCALENDAR
PRODID:-//kirchenweb.ch gmbh//veranstaltungsausgabe v2.0//DE
VERSION:2.0
METHOD:PUBLISH
BEGIN:VEVENT
DTSTART:20230617T114300Z
DTEND:20230617T151000Z
LOCATION:Vogelsang Gächlingen\, \,
TRANSP:OPAQUE
SEQUENCE:0
UID:148881-veranstaltung@ref-sh.ch
DTSTAMP:20230613T121052Z
DESCRIPTION:Diesen Samstag ist wieder Ameisli und wir werden neue Dinge
  lernen und üben für unsere Sternliabzeichen! Also komm zum Treffpunkt
  und nimmt viel gute Laune mit.\n\nMitnehmen:\n-Wetterentsprechende
  Kleidung\n-gefüllte Trinkflasche\n-Gute Laune\n\nStart:\nBushaltestelle
  Siblingen Näppental:	13:43 Uhr\n\nEnde:\nSiblingen Näppental:	17:10 Uhr
 \n\nKontakt: Anja Ryser\n\n\nWeitere Infos:
  https://www.ref-sh.ch/veranstaltung/148881
SUMMARY:Ameisli im Vogelsang
PRIORITY:5
X-MICROSOFT-CDO-IMPORTANCE:1
CLASS:PUBLIC
END:VEVENT
END:VCALENDAR
