BEGIN:VCALENDAR
PRODID:-//kirchenweb.ch gmbh//veranstaltungsausgabe v2.0//DE
VERSION:2.0
METHOD:PUBLISH
BEGIN:VEVENT
DTSTART:20230603T113000Z
DTEND:20230603T150000Z
LOCATION:noch unklar\, \,
TRANSP:OPAQUE
SEQUENCE:0
UID:148880-veranstaltung@ref-sh.ch
DTSTAMP:20230320T135946Z
DESCRIPTION:Leider müssen wir diesen Nachmittag absagen...\n\nKontakt:
  Anja Ryser\n\n\nWeitere Infos: https://www.ref-sh.ch/veranstaltung/148880
SUMMARY:ABGESAGT      leider keine Ameisli
PRIORITY:5
X-MICROSOFT-CDO-IMPORTANCE:1
CLASS:PUBLIC
END:VEVENT
END:VCALENDAR
