BEGIN:VCALENDAR
PRODID:-//kirchenweb.ch gmbh//veranstaltungsausgabe v2.0//DE
VERSION:2.0
METHOD:PUBLISH
BEGIN:VEVENT
DTSTART:20230520T113000Z
DTEND:20230520T150000Z
LOCATION:Guntmadingen\, \,
TRANSP:OPAQUE
SEQUENCE:0
UID:148879-veranstaltung@ref-sh.ch
DTSTAMP:20230517T192621Z
DESCRIPTION:Hallo zusammen!\n\nAm Samstag ist es wieder so weit\, wir
  haben Ameisli!\nDiesesmal verbringen wir den Nachmittag in Guntmadingen.
  ALso zieh dich warm an und komm zum Treffpunkt.\n\nTreffpunkt:\n13.30 Uhr
  Guntmadingen Schulhausplatz Gesetzte Markierung
  https://maps.app.goo.gl/E5srSahjMnw7FN7A7\n\nWer keine Möglichkeit hat
  selbständig zum Treffpunkt zu kommen\, soll sich bitte bei Anja melden.
  Dann finden wir bestimmt eine Mitfahrgelegenheit.\n\nEnde:\n17.00
  Guntmadingen Schulhausplatz\n\nMitnehmen:\n-zTrinke\n-dem Wetter
  angepasste Kleidung\n-gute Schuhe\n-viel Freude\n\n\n\n\nKontakt: Anja
  Ryser\n\n\nWeitere Infos: https://www.ref-sh.ch/veranstaltung/148879
SUMMARY:Ameisli in Guntmadingen
PRIORITY:5
X-MICROSOFT-CDO-IMPORTANCE:1
CLASS:PUBLIC
END:VEVENT
END:VCALENDAR
