BEGIN:VCALENDAR
PRODID:-//kirchenweb.ch gmbh//veranstaltungsausgabe v2.0//DE
VERSION:2.0
METHOD:PUBLISH
BEGIN:VEVENT
DTSTART:20230401T113000Z
DTEND:20230401T150000Z
LOCATION:Löhningen\, \,
TRANSP:OPAQUE
SEQUENCE:0
UID:148878-veranstaltung@ref-sh.ch
DTSTAMP:20230320T143027Z
DESCRIPTION:Es ist wieder Ameisli. Diesmal verbringen wir einen Nachmittag
  in Löhningen und lernen viel übers Helfen. Also komm zum Treffpunkt und
  nimm gute Laune mit.\n\nMitnehmen:\n-Wetterentsprechende Kleidung
 \n-gefüllte Trinkflasche\n-Gute Laune\n-Für Gächlinger: Busgeld\n
 \nStart:\nGächlingen: 13.00 Bushaltestelle Dorf\, Richtung Siblingen
 \nLöhningen: 13.20 Brunnen Bushaltestelle Dorf\nOberhallau/Guntmadingen:
  Nach Absprache\n\nEnde:\nGächlingen: 16.48 Bushaltestelle Dorf\,
  Richtung Neunkirch\nLöhningen: 16.35 Brunnen Bushaltestelle Dorf
 \nOberhallau/Guntmadingen: Nach Absprache\n\nKontakt: Anja Ryser\n\n
 \nWeitere Infos: https://www.ref-sh.ch/veranstaltung/148878
SUMMARY:Ameisli in Löhningen
PRIORITY:5
X-MICROSOFT-CDO-IMPORTANCE:1
CLASS:PUBLIC
END:VEVENT
END:VCALENDAR
