BEGIN:VCALENDAR
PRODID:-//kirchenweb.ch gmbh//veranstaltungsausgabe v2.0//DE
VERSION:2.0
METHOD:PUBLISH
BEGIN:VEVENT
DTSTART:20230225T180000Z
DTEND:20230225T210000Z
LOCATION:Mesmerhuus\, Kloster 14\, 8224 Löhningen
TRANSP:OPAQUE
SEQUENCE:0
UID:148659-veranstaltung@ref-sh.ch
DTSTAMP:20230225T111550Z
DESCRIPTION:Wegen des Team-Weekends der Jungen Kirche Klettgsu muss der
  Check-in heute ausfallen. Bis nächsten Samstag!\n\n\nKontakt: Philippe
  Niklaus\n\nWeitere Infos: https://www.ref-sh.ch/veranstaltung/148659
SUMMARY:Heute kein Check-in
PRIORITY:5
X-MICROSOFT-CDO-IMPORTANCE:1
CLASS:PUBLIC
END:VEVENT
END:VCALENDAR
