BEGIN:VCALENDAR
PRODID:-//kirchenweb.ch gmbh//veranstaltungsausgabe v2.0//DE
VERSION:2.0
METHOD:PUBLISH
BEGIN:VEVENT
DTSTART:20230625T093500Z
DTEND:20230625T103000Z
LOCATION:Grillplatz «Im Tal» Guntmadingen\, Liiberackerweg\, 8223
  Guntmadingen
TRANSP:OPAQUE
SEQUENCE:0
UID:148633-veranstaltung@ref-sh.ch
DTSTAMP:20250312T052700Z
DESCRIPTION:Kontakt: Vreni Neukomm-Kreis\n\nWeitere Infos:
  https://www.ref-sh.ch/veranstaltung/148633
SUMMARY:Aperitif
PRIORITY:5
X-MICROSOFT-CDO-IMPORTANCE:1
CLASS:PUBLIC
END:VEVENT
END:VCALENDAR
