BEGIN:VCALENDAR
PRODID:-//kirchenweb.ch gmbh//veranstaltungsausgabe v2.0//DE
VERSION:2.0
METHOD:PUBLISH
BEGIN:VEVENT
DTSTART:20240308T130000Z
DTEND:20240308T153000Z
LOCATION:HofAckerZentrum\, Alpenstrasse 176\, 8203 Schaffhausen
TRANSP:OPAQUE
SEQUENCE:0
UID:148495-veranstaltung@ref-sh.ch
DTSTAMP:20231121T074844Z
DESCRIPTION:Kontakt: Heidi Ranft-Lampert : 052 625 15 05\nBeat Stalder :
  052 625 12 70\nMonique Cristina : 052 672 64 06\nBrigitte Rychen : 052
  620 29 09\nAdriana Di Cesare\n\nWeitere Infos:
  https://www.ref-sh.ch/veranstaltung/148495
SUMMARY:Mir mit eu z' Buechthale
PRIORITY:5
X-MICROSOFT-CDO-IMPORTANCE:1
CLASS:PUBLIC
END:VEVENT
END:VCALENDAR
